BEGIN:VCALENDAR
VERSION:2.0
PRODID:-//Logan River Mens Association - ECPv5.14.0.4//NONSGML v1.0//EN
CALSCALE:GREGORIAN
METHOD:PUBLISH
X-WR-CALNAME:Logan River Mens Association
X-ORIGINAL-URL:https://mens.loganriver.club
X-WR-CALDESC:Events for Logan River Mens Association
BEGIN:VTIMEZONE
TZID:America/Denver
BEGIN:DAYLIGHT
TZOFFSETFROM:-0700
TZOFFSETTO:-0600
TZNAME:MDT
DTSTART:20210314T090000
END:DAYLIGHT
BEGIN:STANDARD
TZOFFSETFROM:-0600
TZOFFSETTO:-0700
TZNAME:MST
DTSTART:20211107T080000
END:STANDARD
END:VTIMEZONE
BEGIN:VEVENT
DTSTART;TZID=America/Denver:20210705T080000
DTEND;TZID=America/Denver:20210705T170000
DTSTAMP:20260423T233322
CREATED:20210215T190459Z
LAST-MODIFIED:20210215T190459Z
UID:955-1625472000-1625504400@mens.loganriver.club
SUMMARY:4TH OF JULY SPECIAL-18 HOLES LOW GROSS AND NET
DESCRIPTION:Come out and celebrate the 4th of July. This is a 18 hole event. All who play are eligible for low gross and net winnings for the day.
URL:https://mens.loganriver.club/event/4th-of-july-special-18-holes-low-gross-and-net/
END:VEVENT
END:VCALENDAR