BEGIN:VCALENDAR
VERSION:2.0
PRODID:-//Logan River Mens Association - ECPv5.14.0.4//NONSGML v1.0//EN
CALSCALE:GREGORIAN
METHOD:PUBLISH
X-WR-CALNAME:Logan River Mens Association
X-ORIGINAL-URL:https://mens.loganriver.club
X-WR-CALDESC:Events for Logan River Mens Association
BEGIN:VTIMEZONE
TZID:America/Denver
BEGIN:DAYLIGHT
TZOFFSETFROM:-0700
TZOFFSETTO:-0600
TZNAME:MDT
DTSTART:20190310T090000
END:DAYLIGHT
BEGIN:STANDARD
TZOFFSETFROM:-0600
TZOFFSETTO:-0700
TZNAME:MST
DTSTART:20191103T080000
END:STANDARD
END:VTIMEZONE
BEGIN:VEVENT
DTSTART;VALUE=DATE:20190526
DTEND;VALUE=DATE:20190529
DTSTAMP:20260425T165249
CREATED:20190328T090303Z
LAST-MODIFIED:20190328T090303Z
UID:210-1558890000-1559062799@mens.loganriver.club
SUMMARY:Aerating the greens
DESCRIPTION:Randy is making our greens better. Aeration and sanding is planned for on this day.
URL:https://mens.loganriver.club/event/aerating-the-greens/
END:VEVENT
END:VCALENDAR