BEGIN:VCALENDAR
VERSION:2.0
PRODID:-//Logan River Mens Association - ECPv5.14.0.4//NONSGML v1.0//EN
CALSCALE:GREGORIAN
METHOD:PUBLISH
X-WR-CALNAME:Logan River Mens Association
X-ORIGINAL-URL:https://mens.loganriver.club
X-WR-CALDESC:Events for Logan River Mens Association
BEGIN:VTIMEZONE
TZID:America/Denver
BEGIN:DAYLIGHT
TZOFFSETFROM:-0700
TZOFFSETTO:-0600
TZNAME:MDT
DTSTART:20220313T090000
END:DAYLIGHT
BEGIN:STANDARD
TZOFFSETFROM:-0600
TZOFFSETTO:-0700
TZNAME:MST
DTSTART:20221106T080000
END:STANDARD
END:VTIMEZONE
BEGIN:VEVENT
DTSTART;TZID=America/Denver:20220419T080000
DTEND;TZID=America/Denver:20220420T170000
DTSTAMP:20260423T085836
CREATED:20220303T223023Z
LAST-MODIFIED:20220303T223023Z
UID:1202-1650355200-1650474000@mens.loganriver.club
SUMMARY:April 19 - 20. Open low gross and net.
DESCRIPTION:
URL:https://mens.loganriver.club/event/april-19-20-open-low-gross-and-net/
END:VEVENT
END:VCALENDAR