BEGIN:VCALENDAR
VERSION:2.0
PRODID:-//Logan River Mens Association - ECPv5.14.0.4//NONSGML v1.0//EN
CALSCALE:GREGORIAN
METHOD:PUBLISH
X-WR-CALNAME:Logan River Mens Association
X-ORIGINAL-URL:https://mens.loganriver.club
X-WR-CALDESC:Events for Logan River Mens Association
BEGIN:VTIMEZONE
TZID:America/Denver
BEGIN:DAYLIGHT
TZOFFSETFROM:-0700
TZOFFSETTO:-0600
TZNAME:MDT
DTSTART:20220313T090000
END:DAYLIGHT
BEGIN:STANDARD
TZOFFSETFROM:-0600
TZOFFSETTO:-0700
TZNAME:MST
DTSTART:20221106T080000
END:STANDARD
END:VTIMEZONE
BEGIN:VEVENT
DTSTART;TZID=America/Denver:20220426T080000
DTEND;TZID=America/Denver:20220427T170000
DTSTAMP:20260423T072059
CREATED:20220303T223059Z
LAST-MODIFIED:20220303T223059Z
UID:1204-1650960000-1651078800@mens.loganriver.club
SUMMARY:April 26 - 27 Open low gross and net.
DESCRIPTION:
URL:https://mens.loganriver.club/event/april-26-27-open-low-gross-and-net/
END:VEVENT
END:VCALENDAR