BEGIN:VCALENDAR
VERSION:2.0
PRODID:-//Logan River Mens Association - ECPv5.14.0.4//NONSGML v1.0//EN
CALSCALE:GREGORIAN
METHOD:PUBLISH
X-WR-CALNAME:Logan River Mens Association
X-ORIGINAL-URL:https://mens.loganriver.club
X-WR-CALDESC:Events for Logan River Mens Association
BEGIN:VTIMEZONE
TZID:America/Denver
BEGIN:DAYLIGHT
TZOFFSETFROM:-0700
TZOFFSETTO:-0600
TZNAME:MDT
DTSTART:20240310T090000
END:DAYLIGHT
BEGIN:STANDARD
TZOFFSETFROM:-0600
TZOFFSETTO:-0700
TZNAME:MST
DTSTART:20241103T080000
END:STANDARD
END:VTIMEZONE
BEGIN:VEVENT
DTSTART;VALUE=DATE:20240726
DTEND;VALUE=DATE:20240728
DTSTAMP:20260421T164739
CREATED:20240313T192139Z
LAST-MODIFIED:20240313T192306Z
UID:1813-1721952000-1722124799@mens.loganriver.club
SUMMARY:Cache Valley Amateur
DESCRIPTION:Play 18 holes stroke play at Logan River and Birch Creek golf courses.
URL:https://mens.loganriver.club/event/cache-valley-amateur-2/
END:VEVENT
END:VCALENDAR