BEGIN:VCALENDAR
VERSION:2.0
PRODID:-//Logan River Mens Association - ECPv5.14.0.4//NONSGML v1.0//EN
CALSCALE:GREGORIAN
METHOD:PUBLISH
X-WR-CALNAME:Logan River Mens Association
X-ORIGINAL-URL:https://mens.loganriver.club
X-WR-CALDESC:Events for Logan River Mens Association
BEGIN:VTIMEZONE
TZID:America/Denver
BEGIN:DAYLIGHT
TZOFFSETFROM:-0700
TZOFFSETTO:-0600
TZNAME:MDT
DTSTART:20210314T090000
END:DAYLIGHT
BEGIN:STANDARD
TZOFFSETFROM:-0600
TZOFFSETTO:-0700
TZNAME:MST
DTSTART:20211107T080000
END:STANDARD
END:VTIMEZONE
BEGIN:VEVENT
DTSTART;TZID=America/Denver:20210730T080000
DTEND;TZID=America/Denver:20210730T170000
DTSTAMP:20260423T215938
CREATED:20210215T191345Z
LAST-MODIFIED:20210215T191345Z
UID:975-1627632000-1627664400@mens.loganriver.club
SUMMARY:CACHE VALLEY AMATEUR (Birch Creek and  Logan River)
DESCRIPTION:This is a great Cache Valley event. Play 18 holes at each course (River and Birch). Your total score for both days enters you in the winnings. \nCall the River or Birch Creek pro shop to register and save your spot.
URL:https://mens.loganriver.club/event/cache-valley-amateur-birch-creek-and-logan-river/
END:VEVENT
END:VCALENDAR