BEGIN:VCALENDAR
VERSION:2.0
PRODID:-//Logan River Mens Association - ECPv5.14.0.4//NONSGML v1.0//EN
CALSCALE:GREGORIAN
METHOD:PUBLISH
X-WR-CALNAME:Logan River Mens Association
X-ORIGINAL-URL:https://mens.loganriver.club
X-WR-CALDESC:Events for Logan River Mens Association
BEGIN:VTIMEZONE
TZID:America/Denver
BEGIN:DAYLIGHT
TZOFFSETFROM:-0700
TZOFFSETTO:-0600
TZNAME:MDT
DTSTART:20210314T090000
END:DAYLIGHT
BEGIN:STANDARD
TZOFFSETFROM:-0600
TZOFFSETTO:-0700
TZNAME:MST
DTSTART:20211107T080000
END:STANDARD
END:VTIMEZONE
BEGIN:VEVENT
DTSTART;TZID=America/Denver:20210818T150000
DTEND;TZID=America/Denver:20210818T200000
DTSTAMP:20260423T215735
CREATED:20210215T192149Z
LAST-MODIFIED:20210215T192149Z
UID:993-1629298800-1629316800@mens.loganriver.club
SUMMARY:Club Champion Finals. 3:00 pm
DESCRIPTION:This is the final rounds to determine club champions in each flight. Come out and watch the final matches…..unless your in one of them —- Then Good Luck!
URL:https://mens.loganriver.club/event/club-champion-finals-300-pm/
END:VEVENT
END:VCALENDAR