BEGIN:VCALENDAR
VERSION:2.0
PRODID:-//Logan River Mens Association - ECPv5.14.0.4//NONSGML v1.0//EN
CALSCALE:GREGORIAN
METHOD:PUBLISH
X-WR-CALNAME:Logan River Mens Association
X-ORIGINAL-URL:https://mens.loganriver.club
X-WR-CALDESC:Events for Logan River Mens Association
BEGIN:VTIMEZONE
TZID:America/Denver
BEGIN:DAYLIGHT
TZOFFSETFROM:-0700
TZOFFSETTO:-0600
TZNAME:MDT
DTSTART:20260308T090000
END:DAYLIGHT
BEGIN:STANDARD
TZOFFSETFROM:-0600
TZOFFSETTO:-0700
TZNAME:MST
DTSTART:20261101T080000
END:STANDARD
END:VTIMEZONE
BEGIN:VEVENT
DTSTART;TZID=America/Denver:20260812T150000
DTEND;TZID=America/Denver:20260812T170000
DTSTAMP:20260425T071819
CREATED:20260423T162358Z
LAST-MODIFIED:20260423T162358Z
UID:2417-1786546800-1786554000@mens.loganriver.club
SUMMARY:Club championship finals
DESCRIPTION:
URL:https://mens.loganriver.club/event/club-championship-finals/
END:VEVENT
END:VCALENDAR