BEGIN:VCALENDAR
VERSION:2.0
PRODID:-//Logan River Mens Association - ECPv5.14.0.4//NONSGML v1.0//EN
CALSCALE:GREGORIAN
METHOD:PUBLISH
X-WR-CALNAME:Logan River Mens Association
X-ORIGINAL-URL:https://mens.loganriver.club
X-WR-CALDESC:Events for Logan River Mens Association
BEGIN:VTIMEZONE
TZID:America/Denver
BEGIN:DAYLIGHT
TZOFFSETFROM:-0700
TZOFFSETTO:-0600
TZNAME:MDT
DTSTART:20210314T090000
END:DAYLIGHT
BEGIN:STANDARD
TZOFFSETFROM:-0600
TZOFFSETTO:-0700
TZNAME:MST
DTSTART:20211107T080000
END:STANDARD
END:VTIMEZONE
BEGIN:VEVENT
DTSTART;TZID=America/Denver:20210807T083000
DTEND;TZID=America/Denver:20210807T170000
DTSTAMP:20260423T203600
CREATED:20210215T191733Z
LAST-MODIFIED:20210215T191733Z
UID:983-1628325000-1628355600@mens.loganriver.club
SUMMARY:CLUB CHAMPIONSHIP QUALIFYING 8:30 AM
DESCRIPTION:For all those who want to play in the club championship and if you want to play in the Champion level\, you must play a round prior to the tournament to qualify. Call the River pro shop to schedule your round.
URL:https://mens.loganriver.club/event/club-championship-qualifying-830-am/
END:VEVENT
END:VCALENDAR