BEGIN:VCALENDAR
VERSION:2.0
PRODID:-//Logan River Mens Association - ECPv5.14.0.4//NONSGML v1.0//EN
CALSCALE:GREGORIAN
METHOD:PUBLISH
X-WR-CALNAME:Logan River Mens Association
X-ORIGINAL-URL:https://mens.loganriver.club
X-WR-CALDESC:Events for Logan River Mens Association
BEGIN:VTIMEZONE
TZID:America/Denver
BEGIN:DAYLIGHT
TZOFFSETFROM:-0700
TZOFFSETTO:-0600
TZNAME:MDT
DTSTART:20190310T090000
END:DAYLIGHT
BEGIN:STANDARD
TZOFFSETFROM:-0600
TZOFFSETTO:-0700
TZNAME:MST
DTSTART:20191103T080000
END:STANDARD
END:VTIMEZONE
BEGIN:VEVENT
DTSTART;VALUE=DATE:20190813
DTEND;VALUE=DATE:20190815
DTSTAMP:20260425T132609
CREATED:20190327T120823Z
LAST-MODIFIED:20190327T120823Z
UID:185-1565715600-1565801999@mens.loganriver.club
SUMMARY:Club Match Play Championship Finals
DESCRIPTION:Each flight level will play for match championship. Play starts at 3:00pm.
URL:https://mens.loganriver.club/event/club-match-play-championship-finals/
END:VEVENT
END:VCALENDAR