BEGIN:VCALENDAR
VERSION:2.0
PRODID:-//Logan River Mens Association - ECPv5.14.0.4//NONSGML v1.0//EN
CALSCALE:GREGORIAN
METHOD:PUBLISH
X-WR-CALNAME:Logan River Mens Association
X-ORIGINAL-URL:https://mens.loganriver.club
X-WR-CALDESC:Events for Logan River Mens Association
BEGIN:VTIMEZONE
TZID:America/Denver
BEGIN:DAYLIGHT
TZOFFSETFROM:-0700
TZOFFSETTO:-0600
TZNAME:MDT
DTSTART:20200308T090000
END:DAYLIGHT
BEGIN:STANDARD
TZOFFSETFROM:-0600
TZOFFSETTO:-0700
TZNAME:MST
DTSTART:20201101T080000
END:STANDARD
END:VTIMEZONE
BEGIN:VEVENT
DTSTART;TZID=America/Denver:20200919T080000
DTEND;TZID=America/Denver:20200919T170000
DTSTAMP:20260424T110411
CREATED:20200305T042142Z
LAST-MODIFIED:20200305T042142Z
UID:651-1600502400-1600534800@mens.loganriver.club
SUMMARY:Fall on the River - Couples Tournement
DESCRIPTION:
URL:https://mens.loganriver.club/event/fall-on-the-river-couples-tournement/
END:VEVENT
END:VCALENDAR