BEGIN:VCALENDAR
VERSION:2.0
PRODID:-//Logan River Mens Association - ECPv5.14.0.4//NONSGML v1.0//EN
CALSCALE:GREGORIAN
METHOD:PUBLISH
X-WR-CALNAME:Logan River Mens Association
X-ORIGINAL-URL:https://mens.loganriver.club
X-WR-CALDESC:Events for Logan River Mens Association
BEGIN:VTIMEZONE
TZID:America/Denver
BEGIN:DAYLIGHT
TZOFFSETFROM:-0700
TZOFFSETTO:-0600
TZNAME:MDT
DTSTART:20260308T090000
END:DAYLIGHT
BEGIN:STANDARD
TZOFFSETFROM:-0600
TZOFFSETTO:-0700
TZNAME:MST
DTSTART:20261101T080000
END:STANDARD
END:VTIMEZONE
BEGIN:VEVENT
DTSTART;TZID=America/Denver:20260704T080000
DTEND;TZID=America/Denver:20260704T170000
DTSTAMP:20260424T171343
CREATED:20260423T161453Z
LAST-MODIFIED:20260423T161453Z
UID:2400-1783152000-1783184400@mens.loganriver.club
SUMMARY:Fourth of July low gross and net.
DESCRIPTION:
URL:https://mens.loganriver.club/event/fourth-of-july-low-gross-and-net/
END:VEVENT
END:VCALENDAR