BEGIN:VCALENDAR
VERSION:2.0
PRODID:-//Logan River Mens Association - ECPv5.14.0.4//NONSGML v1.0//EN
CALSCALE:GREGORIAN
METHOD:PUBLISH
X-WR-CALNAME:Logan River Mens Association
X-ORIGINAL-URL:https://mens.loganriver.club
X-WR-CALDESC:Events for Logan River Mens Association
BEGIN:VTIMEZONE
TZID:America/Denver
BEGIN:DAYLIGHT
TZOFFSETFROM:-0700
TZOFFSETTO:-0600
TZNAME:MDT
DTSTART:20190310T090000
END:DAYLIGHT
BEGIN:STANDARD
TZOFFSETFROM:-0600
TZOFFSETTO:-0700
TZNAME:MST
DTSTART:20191103T080000
END:STANDARD
END:VTIMEZONE
BEGIN:VEVENT
DTSTART;VALUE=DATE:20190802
DTEND;VALUE=DATE:20190804
DTSTAMP:20260425T151413
CREATED:20190327T120414Z
LAST-MODIFIED:20190327T120414Z
UID:179-1564765200-1564851599@mens.loganriver.club
SUMMARY:If playing Champ Flight-Qulaify round
DESCRIPTION:The club championship match play will begin play August 6th. For those who want to play in the Champ Flight\, qualifying rounds will be played on this day.
URL:https://mens.loganriver.club/event/if-playing-champ-flight-qulaify-round/
END:VEVENT
END:VCALENDAR