BEGIN:VCALENDAR
VERSION:2.0
PRODID:-//Logan River Mens Association - ECPv5.14.0.4//NONSGML v1.0//EN
CALSCALE:GREGORIAN
METHOD:PUBLISH
X-WR-CALNAME:Logan River Mens Association
X-ORIGINAL-URL:https://mens.loganriver.club
X-WR-CALDESC:Events for Logan River Mens Association
BEGIN:VTIMEZONE
TZID:America/Denver
BEGIN:DAYLIGHT
TZOFFSETFROM:-0700
TZOFFSETTO:-0600
TZNAME:MDT
DTSTART:20240310T090000
END:DAYLIGHT
BEGIN:STANDARD
TZOFFSETFROM:-0600
TZOFFSETTO:-0700
TZNAME:MST
DTSTART:20241103T080000
END:STANDARD
END:VTIMEZONE
BEGIN:VEVENT
DTSTART;VALUE=DATE:20240724
DTEND;VALUE=DATE:20240725
DTSTAMP:20260421T165224
CREATED:20240313T192033Z
LAST-MODIFIED:20240313T192033Z
UID:1811-1721779200-1721865599@mens.loganriver.club
SUMMARY:July 24th Holiday Special
DESCRIPTION:18 holes open low gross and net sweeps
URL:https://mens.loganriver.club/event/july-24th-holiday-special-2/
END:VEVENT
END:VCALENDAR