BEGIN:VCALENDAR
VERSION:2.0
PRODID:-//Logan River Mens Association - ECPv5.14.0.4//NONSGML v1.0//EN
CALSCALE:GREGORIAN
METHOD:PUBLISH
X-WR-CALNAME:Logan River Mens Association
X-ORIGINAL-URL:https://mens.loganriver.club
X-WR-CALDESC:Events for Logan River Mens Association
BEGIN:VTIMEZONE
TZID:America/Denver
BEGIN:DAYLIGHT
TZOFFSETFROM:-0700
TZOFFSETTO:-0600
TZNAME:MDT
DTSTART:20190310T090000
END:DAYLIGHT
BEGIN:STANDARD
TZOFFSETFROM:-0600
TZOFFSETTO:-0700
TZNAME:MST
DTSTART:20191103T080000
END:STANDARD
END:VTIMEZONE
BEGIN:VEVENT
DTSTART;VALUE=DATE:20190723
DTEND;VALUE=DATE:20190725
DTSTAMP:20260425T151904
CREATED:20190327T114824Z
LAST-MODIFIED:20190327T114824Z
UID:173-1563901200-1563987599@mens.loganriver.club
SUMMARY:July 24th Holiday Special
DESCRIPTION:Come play with the guys who didn’t have to work on the 24th of July. Open Low and Gross play for 18 holes.
URL:https://mens.loganriver.club/event/july-24th-holiday-special/
END:VEVENT
END:VCALENDAR