BEGIN:VCALENDAR
VERSION:2.0
PRODID:-//Logan River Mens Association - ECPv5.14.0.4//NONSGML v1.0//EN
CALSCALE:GREGORIAN
METHOD:PUBLISH
X-WR-CALNAME:Logan River Mens Association
X-ORIGINAL-URL:https://mens.loganriver.club
X-WR-CALDESC:Events for Logan River Mens Association
BEGIN:VTIMEZONE
TZID:America/Denver
BEGIN:DAYLIGHT
TZOFFSETFROM:-0700
TZOFFSETTO:-0600
TZNAME:MDT
DTSTART:20220313T090000
END:DAYLIGHT
BEGIN:STANDARD
TZOFFSETFROM:-0600
TZOFFSETTO:-0700
TZNAME:MST
DTSTART:20221106T080000
END:STANDARD
END:VTIMEZONE
BEGIN:VEVENT
DTSTART;TZID=America/Denver:20220624T160000
DTEND;TZID=America/Denver:20220624T213000
DTSTAMP:20260423T060718
CREATED:20220303T225512Z
LAST-MODIFIED:20220303T225512Z
UID:1238-1656086400-1656106200@mens.loganriver.club
SUMMARY:June 24th. Par 3 tournament. 18 holes. 4:00 pm shotgun start.
DESCRIPTION:This is always a fun event. It fill up fast so\, call the pro-shop to reserve your spot.
URL:https://mens.loganriver.club/event/june-24th-par-3-tournament-18-holes-400-pm-shotgun-start/
END:VEVENT
END:VCALENDAR