BEGIN:VCALENDAR
VERSION:2.0
PRODID:-//Logan River Mens Association - ECPv5.14.0.4//NONSGML v1.0//EN
CALSCALE:GREGORIAN
METHOD:PUBLISH
X-WR-CALNAME:Logan River Mens Association
X-ORIGINAL-URL:https://mens.loganriver.club
X-WR-CALDESC:Events for Logan River Mens Association
BEGIN:VTIMEZONE
TZID:America/Denver
BEGIN:DAYLIGHT
TZOFFSETFROM:-0700
TZOFFSETTO:-0600
TZNAME:MDT
DTSTART:20220313T090000
END:DAYLIGHT
BEGIN:STANDARD
TZOFFSETFROM:-0600
TZOFFSETTO:-0700
TZNAME:MST
DTSTART:20221106T080000
END:STANDARD
END:VTIMEZONE
BEGIN:VEVENT
DTSTART;TZID=America/Denver:20220607T080000
DTEND;TZID=America/Denver:20220608T170000
DTSTAMP:20260423T060516
CREATED:20220303T224523Z
LAST-MODIFIED:20220303T224523Z
UID:1228-1654588800-1654707600@mens.loganriver.club
SUMMARY:June 7 - 8. Fourball (2 man best ball PRIMER)
DESCRIPTION:
URL:https://mens.loganriver.club/event/june-7-8-fourball-2-man-best-ball-primer/
END:VEVENT
END:VCALENDAR