BEGIN:VCALENDAR
VERSION:2.0
PRODID:-//Logan River Mens Association - ECPv5.14.0.4//NONSGML v1.0//EN
CALSCALE:GREGORIAN
METHOD:PUBLISH
X-WR-CALNAME:Logan River Mens Association
X-ORIGINAL-URL:https://mens.loganriver.club
X-WR-CALDESC:Events for Logan River Mens Association
BEGIN:VTIMEZONE
TZID:America/Denver
BEGIN:DAYLIGHT
TZOFFSETFROM:-0700
TZOFFSETTO:-0600
TZNAME:MDT
DTSTART:20190310T090000
END:DAYLIGHT
BEGIN:STANDARD
TZOFFSETFROM:-0600
TZOFFSETTO:-0700
TZNAME:MST
DTSTART:20191103T080000
END:STANDARD
END:VTIMEZONE
BEGIN:VEVENT
DTSTART;VALUE=DATE:20190901
DTEND;VALUE=DATE:20190903
DTSTAMP:20260425T113858
CREATED:20190327T121036Z
LAST-MODIFIED:20190824T215557Z
UID:191-1567357200-1567443599@mens.loganriver.club
SUMMARY:Labor Day
DESCRIPTION:Come join those guys not working on the holiday. Play 18 holes Low Gross and Net. This year both women and men’s assoication can play. Schedule your own tee times. Men’s Association will add extra money to the gross and net winners. Plus\, $25.00 for closet to the hole and $15.00 for second closest to the hole on all par 3’s. Plus $1.00 of your sweeps entrance fee will go to the Folds of Honor which provides educational support for children and spouses of fallen or disabeled soldiers.
URL:https://mens.loganriver.club/event/labor-day/
END:VEVENT
END:VCALENDAR