BEGIN:VCALENDAR
VERSION:2.0
PRODID:-//Logan River Mens Association - ECPv5.14.0.4//NONSGML v1.0//EN
CALSCALE:GREGORIAN
METHOD:PUBLISH
X-WR-CALNAME:Logan River Mens Association
X-ORIGINAL-URL:https://mens.loganriver.club
X-WR-CALDESC:Events for Logan River Mens Association
BEGIN:VTIMEZONE
TZID:America/Denver
BEGIN:DAYLIGHT
TZOFFSETFROM:-0700
TZOFFSETTO:-0600
TZNAME:MDT
DTSTART:20210314T090000
END:DAYLIGHT
BEGIN:STANDARD
TZOFFSETFROM:-0600
TZOFFSETTO:-0700
TZNAME:MST
DTSTART:20211107T080000
END:STANDARD
END:VTIMEZONE
BEGIN:VEVENT
DTSTART;TZID=America/Denver:20210724T090000
DTEND;TZID=America/Denver:20210724T143000
DTSTAMP:20260423T215840
CREATED:20210215T190928Z
LAST-MODIFIED:20210215T190928Z
UID:969-1627117200-1627137000@mens.loganriver.club
SUMMARY:LOGAN RIVER-PEPSI 2-MAN SCRAMBLE-9:00 AM
DESCRIPTION:This is an 18 hole event. Call the River pro shop to schedule your time with your partner.
URL:https://mens.loganriver.club/event/logan-river-pepsi-2-man-scramble-900-am/
END:VEVENT
END:VCALENDAR