BEGIN:VCALENDAR
VERSION:2.0
PRODID:-//Logan River Mens Association - ECPv5.14.0.4//NONSGML v1.0//EN
CALSCALE:GREGORIAN
METHOD:PUBLISH
X-WR-CALNAME:Logan River Mens Association
X-ORIGINAL-URL:https://mens.loganriver.club
X-WR-CALDESC:Events for Logan River Mens Association
BEGIN:VTIMEZONE
TZID:America/Denver
BEGIN:DAYLIGHT
TZOFFSETFROM:-0700
TZOFFSETTO:-0600
TZNAME:MDT
DTSTART:20210314T090000
END:DAYLIGHT
BEGIN:STANDARD
TZOFFSETFROM:-0600
TZOFFSETTO:-0700
TZNAME:MST
DTSTART:20211107T080000
END:STANDARD
END:VTIMEZONE
BEGIN:VEVENT
DTSTART;TZID=America/Denver:20210414T080000
DTEND;TZID=America/Denver:20210414T170000
DTSTAMP:20260424T024102
CREATED:20210215T183218Z
LAST-MODIFIED:20210215T183218Z
UID:895-1618387200-1618419600@mens.loganriver.club
SUMMARY:Low gross and net sweeps weekly play
DESCRIPTION:
URL:https://mens.loganriver.club/event/low-gross-and-net-sweeps-weekly-play-3/
END:VEVENT
END:VCALENDAR