BEGIN:VCALENDAR
VERSION:2.0
PRODID:-//Logan River Mens Association - ECPv5.14.0.4//NONSGML v1.0//EN
CALSCALE:GREGORIAN
METHOD:PUBLISH
X-WR-CALNAME:Logan River Mens Association
X-ORIGINAL-URL:https://mens.loganriver.club
X-WR-CALDESC:Events for Logan River Mens Association
BEGIN:VTIMEZONE
TZID:America/Denver
BEGIN:DAYLIGHT
TZOFFSETFROM:-0700
TZOFFSETTO:-0600
TZNAME:MDT
DTSTART:20220313T090000
END:DAYLIGHT
BEGIN:STANDARD
TZOFFSETFROM:-0600
TZOFFSETTO:-0700
TZNAME:MST
DTSTART:20221106T080000
END:STANDARD
END:VTIMEZONE
BEGIN:VEVENT
DTSTART;TZID=America/Denver:20220520T140000
DTEND;TZID=America/Denver:20220520T210000
DTSTAMP:20260423T072329
CREATED:20220303T223954Z
LAST-MODIFIED:20220303T223954Z
UID:1220-1653055200-1653080400@mens.loganriver.club
SUMMARY:May 20th. Pepsi Logan River Amateur. 2:00 pm
DESCRIPTION:Call the pro-shop to register.
URL:https://mens.loganriver.club/event/may-20th-pepsi-logan-river-amateur-200-pm/
END:VEVENT
END:VCALENDAR