BEGIN:VCALENDAR
VERSION:2.0
PRODID:-//Logan River Mens Association - ECPv5.14.0.4//NONSGML v1.0//EN
CALSCALE:GREGORIAN
METHOD:PUBLISH
X-WR-CALNAME:Logan River Mens Association
X-ORIGINAL-URL:https://mens.loganriver.club
X-WR-CALDESC:Events for Logan River Mens Association
BEGIN:VTIMEZONE
TZID:America/Denver
BEGIN:DAYLIGHT
TZOFFSETFROM:-0700
TZOFFSETTO:-0600
TZNAME:MDT
DTSTART:20220313T090000
END:DAYLIGHT
BEGIN:STANDARD
TZOFFSETFROM:-0600
TZOFFSETTO:-0700
TZNAME:MST
DTSTART:20221106T080000
END:STANDARD
END:VTIMEZONE
BEGIN:VEVENT
DTSTART;TZID=America/Denver:20220503T080000
DTEND;TZID=America/Denver:20220504T170000
DTSTAMP:20260423T072010
CREATED:20220303T223153Z
LAST-MODIFIED:20220303T223600Z
UID:1206-1651564800-1651683600@mens.loganriver.club
SUMMARY:May 3 - 4.  Combo tees)
DESCRIPTION:Open low gross and net (Combo tees). \nFor this event you will use a special scorecard. Combo tees means using your regular tees plus other tees. For example; if you normally play the white tees your scorecard may include using the white tees for holes 1\,3\,4\,5\,7\, and 9. But for holes 2\,6\, and 8 you will use the blue tees. It will be fun. Just come and try it!!!
URL:https://mens.loganriver.club/event/may-3-4-open-low-gross-and-net/
END:VEVENT
END:VCALENDAR