BEGIN:VCALENDAR
VERSION:2.0
PRODID:-//Logan River Mens Association - ECPv5.14.0.4//NONSGML v1.0//EN
CALSCALE:GREGORIAN
METHOD:PUBLISH
X-WR-CALNAME:Logan River Mens Association
X-ORIGINAL-URL:https://mens.loganriver.club
X-WR-CALDESC:Events for Logan River Mens Association
BEGIN:VTIMEZONE
TZID:America/Denver
BEGIN:DAYLIGHT
TZOFFSETFROM:-0700
TZOFFSETTO:-0600
TZNAME:MDT
DTSTART:20190310T090000
END:DAYLIGHT
BEGIN:STANDARD
TZOFFSETFROM:-0600
TZOFFSETTO:-0700
TZNAME:MST
DTSTART:20191103T080000
END:STANDARD
END:VTIMEZONE
BEGIN:VEVENT
DTSTART;TZID=America/Denver:20190706T010000
DTEND;TZID=America/Denver:20190706T060000
DTSTAMP:20260425T151150
CREATED:20190417T000710Z
LAST-MODIFIED:20190626T013540Z
UID:320-1562374800-1562392800@mens.loganriver.club
SUMMARY:Member Guest Tournament
DESCRIPTION:This is a Member/Guest event only. Tournament requires a member playing with a guest (non-member). Members invite friends\, neighbors\, and family to play.  We will provide sandwhiches and drinks after the tournament. \nPlay a two-man scramble. Shotgun start at 8:00 am. This is a great event to show guests how much fun it is to golf at Logan River. Guests can sign up to be a Men’s Association member at a reduced price of $20.00.
URL:https://mens.loganriver.club/event/member-guest-tournament/
END:VEVENT
END:VCALENDAR