BEGIN:VCALENDAR
VERSION:2.0
PRODID:-//Logan River Mens Association - ECPv5.14.0.4//NONSGML v1.0//EN
CALSCALE:GREGORIAN
METHOD:PUBLISH
X-WR-CALNAME:Logan River Mens Association
X-ORIGINAL-URL:https://mens.loganriver.club
X-WR-CALDESC:Events for Logan River Mens Association
BEGIN:VTIMEZONE
TZID:America/Denver
BEGIN:DAYLIGHT
TZOFFSETFROM:-0700
TZOFFSETTO:-0600
TZNAME:MDT
DTSTART:20260308T090000
END:DAYLIGHT
BEGIN:STANDARD
TZOFFSETFROM:-0600
TZOFFSETTO:-0700
TZNAME:MST
DTSTART:20261101T080000
END:STANDARD
END:VTIMEZONE
BEGIN:VEVENT
DTSTART;TZID=America/Denver:20260525T080000
DTEND;TZID=America/Denver:20260525T170000
DTSTAMP:20260424T023323
CREATED:20260423T160653Z
LAST-MODIFIED:20260423T160653Z
UID:2381-1779696000-1779728400@mens.loganriver.club
SUMMARY:Memorial Day Special. 18 holes gross and net
DESCRIPTION:
URL:https://mens.loganriver.club/event/memorial-day-special-18-holes-gross-and-net-2/
END:VEVENT
END:VCALENDAR