BEGIN:VCALENDAR
VERSION:2.0
PRODID:-//Logan River Mens Association - ECPv5.14.0.4//NONSGML v1.0//EN
CALSCALE:GREGORIAN
METHOD:PUBLISH
X-WR-CALNAME:Logan River Mens Association
X-ORIGINAL-URL:https://mens.loganriver.club
X-WR-CALDESC:Events for Logan River Mens Association
BEGIN:VTIMEZONE
TZID:America/Denver
BEGIN:DAYLIGHT
TZOFFSETFROM:-0700
TZOFFSETTO:-0600
TZNAME:MDT
DTSTART:20210314T090000
END:DAYLIGHT
BEGIN:STANDARD
TZOFFSETFROM:-0600
TZOFFSETTO:-0700
TZNAME:MST
DTSTART:20211107T080000
END:STANDARD
END:VTIMEZONE
BEGIN:VEVENT
DTSTART;TZID=America/Denver:20210531T080000
DTEND;TZID=America/Denver:20210531T170000
DTSTAMP:20260423T233234
CREATED:20210215T185025Z
LAST-MODIFIED:20210215T185025Z
UID:929-1622448000-1622480400@mens.loganriver.club
SUMMARY:Memorial Day Special. Low gross and net sweeps play
DESCRIPTION:Come and play on this holiday. This is an 18 hole event. All who enter become eligible for winnings of low gross and net scores for the day.
URL:https://mens.loganriver.club/event/memorial-day-special-low-gross-and-net-sweeps-play/
END:VEVENT
END:VCALENDAR