BEGIN:VCALENDAR
VERSION:2.0
PRODID:-//Logan River Mens Association - ECPv5.14.0.4//NONSGML v1.0//EN
CALSCALE:GREGORIAN
METHOD:PUBLISH
X-WR-CALNAME:Logan River Mens Association
X-ORIGINAL-URL:https://mens.loganriver.club
X-WR-CALDESC:Events for Logan River Mens Association
BEGIN:VTIMEZONE
TZID:America/Denver
BEGIN:DAYLIGHT
TZOFFSETFROM:-0700
TZOFFSETTO:-0600
TZNAME:MDT
DTSTART:20210314T090000
END:DAYLIGHT
BEGIN:STANDARD
TZOFFSETFROM:-0600
TZOFFSETTO:-0700
TZNAME:MST
DTSTART:20211107T080000
END:STANDARD
END:VTIMEZONE
BEGIN:VEVENT
DTSTART;TZID=America/Denver:20210925T080000
DTEND;TZID=America/Denver:20210925T170000
DTSTAMP:20260423T141520
CREATED:20210215T193312Z
LAST-MODIFIED:20210215T193312Z
UID:1020-1632556800-1632589200@mens.loganriver.club
SUMMARY:MENS CLOSING -9:30 SG-Individual Aggie Scramble
DESCRIPTION:This is an 18 hole tournament event. Shot gun start at 9:30 am. Call the pro shop to reserve your spot.
URL:https://mens.loganriver.club/event/mens-closing-930-sg-individual-aggie-scramble/
END:VEVENT
END:VCALENDAR