BEGIN:VCALENDAR
VERSION:2.0
PRODID:-//Logan River Mens Association - ECPv5.14.0.4//NONSGML v1.0//EN
CALSCALE:GREGORIAN
METHOD:PUBLISH
X-WR-CALNAME:Logan River Mens Association
X-ORIGINAL-URL:https://mens.loganriver.club
X-WR-CALDESC:Events for Logan River Mens Association
BEGIN:VTIMEZONE
TZID:America/Denver
BEGIN:DAYLIGHT
TZOFFSETFROM:-0700
TZOFFSETTO:-0600
TZNAME:MDT
DTSTART:20260308T090000
END:DAYLIGHT
BEGIN:STANDARD
TZOFFSETFROM:-0600
TZOFFSETTO:-0700
TZNAME:MST
DTSTART:20261101T080000
END:STANDARD
END:VTIMEZONE
BEGIN:VEVENT
DTSTART;TZID=America/Denver:20260825T080000
DTEND;TZID=America/Denver:20260826T170000
DTSTAMP:20260425T104951
CREATED:20260423T162455Z
LAST-MODIFIED:20260423T162455Z
UID:2421-1787644800-1787763600@mens.loganriver.club
SUMMARY:Open low gross and net
DESCRIPTION:
URL:https://mens.loganriver.club/event/open-low-gross-and-net-45/
END:VEVENT
END:VCALENDAR