BEGIN:VCALENDAR
VERSION:2.0
PRODID:-//Logan River Mens Association - ECPv5.14.0.4//NONSGML v1.0//EN
CALSCALE:GREGORIAN
METHOD:PUBLISH
X-WR-CALNAME:Logan River Mens Association
X-ORIGINAL-URL:https://mens.loganriver.club
X-WR-CALDESC:Events for Logan River Mens Association
BEGIN:VTIMEZONE
TZID:America/Denver
BEGIN:DAYLIGHT
TZOFFSETFROM:-0700
TZOFFSETTO:-0600
TZNAME:MDT
DTSTART:20210314T090000
END:DAYLIGHT
BEGIN:STANDARD
TZOFFSETFROM:-0600
TZOFFSETTO:-0700
TZNAME:MST
DTSTART:20211107T080000
END:STANDARD
END:VTIMEZONE
BEGIN:VEVENT
DTSTART;TZID=America/Denver:20210611T080000
DTEND;TZID=America/Denver:20210611T170000
DTSTAMP:20260424T010453
CREATED:20210215T185529Z
LAST-MODIFIED:20210215T185529Z
UID:939-1623398400-1623430800@mens.loganriver.club
SUMMARY:PEPSI 2 MAN BEST BALL-“FOURBALL
DESCRIPTION:This is a 18 hole tournament. Call the River pro shop to reserve your spot with your partner.
URL:https://mens.loganriver.club/event/pepsi-2-man-best-ball-fourball/
END:VEVENT
END:VCALENDAR