BEGIN:VCALENDAR
VERSION:2.0
PRODID:-//Logan River Mens Association - ECPv5.14.0.4//NONSGML v1.0//EN
CALSCALE:GREGORIAN
METHOD:PUBLISH
X-WR-CALNAME:Logan River Mens Association
X-ORIGINAL-URL:https://mens.loganriver.club
X-WR-CALDESC:Events for Logan River Mens Association
BEGIN:VTIMEZONE
TZID:America/Denver
BEGIN:DAYLIGHT
TZOFFSETFROM:-0700
TZOFFSETTO:-0600
TZNAME:MDT
DTSTART:20190310T090000
END:DAYLIGHT
BEGIN:STANDARD
TZOFFSETFROM:-0600
TZOFFSETTO:-0700
TZNAME:MST
DTSTART:20191103T080000
END:STANDARD
END:VTIMEZONE
BEGIN:VEVENT
DTSTART;VALUE=DATE:20190613
DTEND;VALUE=DATE:20190615
DTSTAMP:20260425T165457
CREATED:20190327T113129Z
LAST-MODIFIED:20190606T105848Z
UID:153-1560445200-1560531599@mens.loganriver.club
SUMMARY:Pepsi 2-Man Best Ball Tournament
DESCRIPTION:2-Man Best Ball. Call the pro shop 435-750-0123 to reserve your spot for this tournament. Format play will be…..your twosome plays own ball and records the best score from each hole. Shotgun start at 2:00pm. $132.00 per team=includes a cart. Must be within 6 of your partner.
URL:https://mens.loganriver.club/event/pepsi-2-man-best-ball-tournament/
END:VEVENT
END:VCALENDAR