BEGIN:VCALENDAR
VERSION:2.0
PRODID:-//Logan River Mens Association - ECPv5.14.0.4//NONSGML v1.0//EN
CALSCALE:GREGORIAN
METHOD:PUBLISH
X-WR-CALNAME:Logan River Mens Association
X-ORIGINAL-URL:https://mens.loganriver.club
X-WR-CALDESC:Events for Logan River Mens Association
BEGIN:VTIMEZONE
TZID:America/Denver
BEGIN:DAYLIGHT
TZOFFSETFROM:-0700
TZOFFSETTO:-0600
TZNAME:MDT
DTSTART:20260308T090000
END:DAYLIGHT
BEGIN:STANDARD
TZOFFSETFROM:-0600
TZOFFSETTO:-0700
TZNAME:MST
DTSTART:20261101T080000
END:STANDARD
END:VTIMEZONE
BEGIN:VEVENT
DTSTART;TZID=America/Denver:20260515T080000
DTEND;TZID=America/Denver:20260515T170000
DTSTAMP:20260423T232431
CREATED:20260423T160424Z
LAST-MODIFIED:20260423T160424Z
UID:2377-1778832000-1778864400@mens.loganriver.club
SUMMARY:Pepsi Logan River Amateur
DESCRIPTION:Seniors play starting at 8:00 am \nAll other players play at 2:00 pm \n 
URL:https://mens.loganriver.club/event/pepsi-logan-river-amateur-3/
END:VEVENT
END:VCALENDAR