BEGIN:VCALENDAR
VERSION:2.0
PRODID:-//Logan River Mens Association - ECPv5.14.0.4//NONSGML v1.0//EN
CALSCALE:GREGORIAN
METHOD:PUBLISH
X-WR-CALNAME:Logan River Mens Association
X-ORIGINAL-URL:https://mens.loganriver.club
X-WR-CALDESC:Events for Logan River Mens Association
BEGIN:VTIMEZONE
TZID:America/Denver
BEGIN:DAYLIGHT
TZOFFSETFROM:-0700
TZOFFSETTO:-0600
TZNAME:MDT
DTSTART:20190310T090000
END:DAYLIGHT
BEGIN:STANDARD
TZOFFSETFROM:-0600
TZOFFSETTO:-0700
TZNAME:MST
DTSTART:20191103T080000
END:STANDARD
END:VTIMEZONE
BEGIN:VEVENT
DTSTART;VALUE=DATE:20190812
DTEND;VALUE=DATE:20190815
DTSTAMP:20260425T132515
CREATED:20190327T120657Z
LAST-MODIFIED:20190403T001331Z
UID:183-1565629200-1565801999@mens.loganriver.club
SUMMARY:Stableford Tournament
DESCRIPTION:This is a fun format. Play your own ball and score by the following: \nBogey=1point\, Par=2points\, Birdie=4points\, and Eagle=8 points
URL:https://mens.loganriver.club/event/stableford-tournament/
END:VEVENT
END:VCALENDAR