BEGIN:VCALENDAR
VERSION:2.0
PRODID:-//Logan River Mens Association - ECPv5.14.0.4//NONSGML v1.0//EN
CALSCALE:GREGORIAN
METHOD:PUBLISH
X-WR-CALNAME:Logan River Mens Association
X-ORIGINAL-URL:https://mens.loganriver.club
X-WR-CALDESC:Events for Logan River Mens Association
BEGIN:VTIMEZONE
TZID:America/Denver
BEGIN:DAYLIGHT
TZOFFSETFROM:-0700
TZOFFSETTO:-0600
TZNAME:MDT
DTSTART:20210314T090000
END:DAYLIGHT
BEGIN:STANDARD
TZOFFSETFROM:-0600
TZOFFSETTO:-0700
TZNAME:MST
DTSTART:20211107T080000
END:STANDARD
END:VTIMEZONE
BEGIN:VEVENT
DTSTART;TZID=America/Denver:20210622T163000
DTEND;TZID=America/Denver:20210622T200000
DTSTAMP:20260423T233046
CREATED:20210215T190050Z
LAST-MODIFIED:20210215T190050Z
UID:947-1624379400-1624392000@mens.loganriver.club
SUMMARY:SUMMER SOLSTICE-18 HOLE-4:30-COUPLES
DESCRIPTION:Call the River pro shop to reserve your spot. Couples only.
URL:https://mens.loganriver.club/event/summer-solstice-18-hole-430-couples/
END:VEVENT
END:VCALENDAR