BEGIN:VCALENDAR
VERSION:2.0
PRODID:-//Logan River Mens Association - ECPv5.14.0.4//NONSGML v1.0//EN
CALSCALE:GREGORIAN
METHOD:PUBLISH
X-WR-CALNAME:Logan River Mens Association
X-ORIGINAL-URL:https://mens.loganriver.club
X-WR-CALDESC:Events for Logan River Mens Association
BEGIN:VTIMEZONE
TZID:America/Denver
BEGIN:DAYLIGHT
TZOFFSETFROM:-0700
TZOFFSETTO:-0600
TZNAME:MDT
DTSTART:20190310T090000
END:DAYLIGHT
BEGIN:STANDARD
TZOFFSETFROM:-0600
TZOFFSETTO:-0700
TZNAME:MST
DTSTART:20191103T080000
END:STANDARD
END:VTIMEZONE
BEGIN:VEVENT
DTSTART;VALUE=DATE:20190624
DTEND;VALUE=DATE:20190626
DTSTAMP:20260425T181446
CREATED:20190327T113904Z
LAST-MODIFIED:20190529T054231Z
UID:157-1561395600-1561481999@mens.loganriver.club
SUMMARY:Summer Solstice-Couples Golf (Win On-The-Fall entrance fee)
DESCRIPTION:Summer Solstice is for couples (male and female). Play 18 holes. Shotgun starts at 4:30pm. \n!! Play in the Summer Solstice and be entered to win entrance fee ($200.00 value) to the Fall On The River Tournament to benefit Juvenile Diabetes Research Foundation charity.
URL:https://mens.loganriver.club/event/summer-solstice-couples-golf/
END:VEVENT
END:VCALENDAR