BEGIN:VCALENDAR
VERSION:2.0
PRODID:-//Logan River Mens Association - ECPv5.14.0.4//NONSGML v1.0//EN
CALSCALE:GREGORIAN
METHOD:PUBLISH
X-WR-CALNAME:Logan River Mens Association
X-ORIGINAL-URL:https://mens.loganriver.club
X-WR-CALDESC:Events for Logan River Mens Association
BEGIN:VTIMEZONE
TZID:America/Denver
BEGIN:DAYLIGHT
TZOFFSETFROM:-0700
TZOFFSETTO:-0600
TZNAME:MDT
DTSTART:20200308T090000
END:DAYLIGHT
BEGIN:STANDARD
TZOFFSETFROM:-0600
TZOFFSETTO:-0700
TZNAME:MST
DTSTART:20201101T080000
END:STANDARD
END:VTIMEZONE
BEGIN:VEVENT
DTSTART;TZID=America/Denver:20200623T163000
DTEND;TZID=America/Denver:20200623T170000
DTSTAMP:20260424T215348
CREATED:20200305T035851Z
LAST-MODIFIED:20200305T035851Z
UID:606-1592929800-1592931600@mens.loganriver.club
SUMMARY:Summer Soltice-Couples Tournament
DESCRIPTION:Team up with a partner (opposite gender than you are) and play this fun tournament. 18 holes shotgun start at 4:30 pm.
URL:https://mens.loganriver.club/event/summer-soltice-couples-tournament/
END:VEVENT
END:VCALENDAR